BEGIN:VCALENDAR
PRODID:-//eluceo/ical//2.0/EN
VERSION:2.0
CALSCALE:GREGORIAN
BEGIN:VEVENT
UID:bb6168903f8e979dbf639f1a4b7bc840
DTSTAMP:20260422T132811Z
SUMMARY:Nefesh Passover Market
DESCRIPTION:Jewish Federation of the Greater San Gabriel & Pomona Valleys\n
 COMMUNITY CALENDAR\nhttps://jewishsgpv.org/calendar/nefesh-passover-market
 \n\n Nefesh is offering a Passover Market to the eastside communities of
  Los Angeles this year. Folks can order a kit of the necessities (matzah\,
  horseradish\, Kedem grape juice\, parsley) and then we will have a pick u
 p day in Eagle Rock on Sunday\, April 10 from 12 - 3 pm.\n\n 
DTSTART;TZID=America/Los_Angeles:20220410T000000
DTEND;TZID=America/Los_Angeles:20220410T235959
END:VEVENT
END:VCALENDAR
