BEGIN:VCALENDAR
PRODID:-//eluceo/ical//2.0/EN
VERSION:2.0
CALSCALE:GREGORIAN
BEGIN:VEVENT
UID:01a701c5b01e4dfd9bb2468c1374dd3e
DTSTAMP:20260423T031222Z
SUMMARY:Nefesh Mountain concert at Temple Beth Israel of Pomona
DESCRIPTION:Jewish Federation of the Greater San Gabriel & Pomona Valleys\n
 COMMUNITY CALENDAR\nhttps://jewishsgpv.org/calendar/nefesh-mountain-concer
 t-at-temple-beth-israel-of-pomona\n\n
DTSTART;TZID=America/Los_Angeles:20221105T190000
DTEND;TZID=America/Los_Angeles:20221105T210000
END:VEVENT
END:VCALENDAR
