BEGIN:VCALENDAR
PRODID:-//eluceo/ical//2.0/EN
VERSION:2.0
CALSCALE:GREGORIAN
BEGIN:VEVENT
UID:b3b8ae4459c010e9b6f1879a644d22f9
DTSTAMP:20260423T233713Z
SUMMARY:Music of Remembrance and Reflection
DESCRIPTION:Jewish Federation of the Greater San Gabriel & Pomona Valleys\n
 COMMUNITY CALENDAR\nhttps://jewishsgpv.org/calendar/music-of-remembrance-a
 nd-reflection\n\nCONGREGATION EMANU EL \n\nand\n\nSPINET MUSIC CLUB-REDLAN
 DS\n\npresent\n\n \n\nMUSICA VIVA ORCHESTRA and CHOIR\n\nDr. Lois Musmann
 \, conductor\n\n \n\nMusic of Remembrance and Reflection\n\n \n\nIn Obse
 rvance of Yom HaShoah /\n\nHolocaust Remembrance Day\n\n\n\n\n\n \n\n\n\n
 \n\n \n\n \n\n\n\n\n\n\n\n\n\nCongregation Emanu...
DTSTART;TZID=America/Los_Angeles:20220426T193000
DTEND;TZID=America/Los_Angeles:20220426T210000
END:VEVENT
END:VCALENDAR
