BEGIN:VCALENDAR
PRODID:-//eluceo/ical//2.0/EN
VERSION:2.0
CALSCALE:GREGORIAN
BEGIN:VEVENT
UID:b5372e36ab88ea065971f36a64f5f7f5
DTSTAMP:20260424T183654Z
SUMMARY:Monthly "Shabbat at Home"
DESCRIPTION:Jewish Federation of the Greater San Gabriel & Pomona Valleys\n
 COMMUNITY CALENDAR\nhttps://jewishsgpv.org/calendar/monthly-shabbat-at-hom
 e\n\nMonthly "Shabbat At Home"\n\nFriday\, 3/25 at 7:30pm VIA ZOOM\n\nPr
 esented by Temple Sinai of Glendale\n\nTo RSVP/For More Information- visit
  temple-sinai.net\n\nA surprising lesson of the pandemic has been discove
 ring how we can create a sense of sacredness in a virtual space. Once a mo
 nth we are happy to offer a "Shabbat at Home" service\, so please join us 
 via Zoom an evening of prayer\, song\, and connection!
DTSTART;TZID=America/Los_Angeles:20220325T193000
DTEND;TZID=America/Los_Angeles:20220325T213000
END:VEVENT
END:VCALENDAR
