BEGIN:VCALENDAR
PRODID:-//eluceo/ical//2.0/EN
VERSION:2.0
CALSCALE:GREGORIAN
BEGIN:VEVENT
UID:ffe5e40d055eb14ca03904c617ef31c5
DTSTAMP:20260422T164127Z
SUMMARY:Miller Introduction to Judaism Class - Temple B'nai Emet
DESCRIPTION:Jewish Federation of the Greater San Gabriel & Pomona Valleys\n
 COMMUNITY CALENDAR\nhttps://jewishsgpv.org/calendar/miller-introduction-to
 -judaism-class-temple-bnai-emet\n\nMiller Introduction to Judaism Class\ni
 n affiliation with American Jewish University\n\n\nStarts Sunday\, July 13
 \, 2025\, at 9:00 am.\n(Less than $15 per class!)\n\n\nMost classes are co
 nducted over Zoom\nOnly 3 or 4 sessions at the Temple.\n$100 per family fo
 r members\,\n$175 per family for non-members.\n12-week course\n\n\nOpen to
  all. Invaluable for those interested in conversion\, a new\nbeginning for
  long-time Jews seeking to reconnect.\n\n\nCall Valerie (626) 545-2053 at 
 the Temple to reser...
DTSTART;TZID=America/Los_Angeles:20250713T090000
DTEND;TZID=America/Los_Angeles:20250713T100000
END:VEVENT
END:VCALENDAR
