BEGIN:VCALENDAR
PRODID:-//eluceo/ical//2.0/EN
VERSION:2.0
CALSCALE:GREGORIAN
BEGIN:VEVENT
UID:55c18934c7f367dff0e900d17d32a0f7
DTSTAMP:20260423T101853Z
SUMMARY:Meet PJ Our Way Author Sofiya Pasternack
DESCRIPTION:Jewish Federation of the Greater San Gabriel & Pomona Valleys\n
 COMMUNITY CALENDAR\nhttps://jewishsgpv.org/calendar/meet-sofiya-pasternack
 \n\nCLICK HERE TO RSVP
DTSTART;TZID=America/Los_Angeles:20200710T160000
DTEND;TZID=America/Los_Angeles:20200710T170000
END:VEVENT
END:VCALENDAR
