BEGIN:VCALENDAR
PRODID:-//eluceo/ical//2.0/EN
VERSION:2.0
CALSCALE:GREGORIAN
BEGIN:VEVENT
UID:1d5bdf22bedf06e2d6fda5c6f66c2dfa
DTSTAMP:20260423T085447Z
SUMMARY:March Month End Sing Along
DESCRIPTION:Jewish Federation of the Greater San Gabriel & Pomona Valleys\n
 COMMUNITY CALENDAR\nhttps://jewishsgpv.org/calendar/march-month-end-sing-a
 long\n\nEnd of Month Sing Along on Zoom\n\nPresented by Temple Ami Shalom\
 n\nNo need to RSVP\, just join the Zoom if you like:\n\nTopic: Mike Sirota
 's Month End Zoom Sing Along\nTime: Wednesday March 30\, 2022 at 7:00 PST\
 n\nJoin Zoom Meeting\nhttps://us02web.zoom.us/j/6918571800\n\nMeeting ID: 
 691 857 1800\nOne tap mobile\n+12532158782\,\,6918571800# US (Tacoma)\n+13
 462487799\,\,6918571800# US (Houston)
DTSTART;TZID=America/Los_Angeles:20220330T190000
DTEND;TZID=America/Los_Angeles:20220330T210000
END:VEVENT
END:VCALENDAR
