BEGIN:VCALENDAR
PRODID:-//eluceo/ical//2.0/EN
VERSION:2.0
CALSCALE:GREGORIAN
BEGIN:VEVENT
UID:a9a67dd3bd78187aca1f46d2a6454ebd
DTSTAMP:20260420T195340Z
SUMMARY:Livestream Shabbat with Rabbi Carrier & Cantor Ruth
DESCRIPTION:Jewish Federation of the Greater San Gabriel & Pomona Valleys\n
 COMMUNITY CALENDAR\nhttps://jewishsgpv.org/calendar/livestream-shabbat-wit
 h-rabbi-carrier-cantor-ruth\n\nPasadena Jewish Temple & Center\n\n\nShabba
 t via Livestream\, brought to you by Pasadena Jewish Temple & Center. We i
 nvite you to join us on Friday's at 7:30pm and on Saturday's at 9:30am for
  a warm\, welcoming\, conservative Shabbat Service featuring beautiful mus
 ic and spiritually uplifting guidance. Rabbi John Carrier and Cantor Ruth 
 Berman-Harris are committed to providing our community the Shabbat Service
 s they need\, and we are opening our virtual doors to any and all who wish
  to attend. Ju...
DTSTART;TZID=America/Los_Angeles:20200425T093000
DTEND;TZID=America/Los_Angeles:20200425T113000
END:VEVENT
END:VCALENDAR
