BEGIN:VCALENDAR
PRODID:-//eluceo/ical//2.0/EN
VERSION:2.0
CALSCALE:GREGORIAN
BEGIN:VEVENT
UID:7392d1003ca58587689b7995bdb21ccd
DTSTAMP:20260419T222826Z
SUMMARY:Lian Najani - “Life in Israel with Lian: Minorities and Shared Ex
 istence.”
DESCRIPTION:Jewish Federation of the Greater San Gabriel & Pomona Valleys\n
 COMMUNITY CALENDAR\nhttps://jewishsgpv.org/calendar/life-in-israel-with-li
 an-minorities-and-shared-existence\n\nLian Najani discusses “Life in Isr
 ael with Lian: Minorities and Shared Existence.” A unique perspective fr
 om Israel’s first Arab Rhodes Scholar\n\nApril 10\, 2 PM On Zoom\n\nPres
 ented by Riverside Temple Beth El\n\nTo RSVP/For More Info: Email office@
 tberiv.org\n\nNajani’s presentation is based on her experiences of havin
 g been raised in a liberal Muslim family\, attending a Christian high scho
 ol\, and volunteering in a Reform Jewish community center. She grew up as 
 part of four differe...
DTSTART;TZID=America/Los_Angeles:20220410T140000
DTEND;TZID=America/Los_Angeles:20220410T160000
END:VEVENT
END:VCALENDAR
