BEGIN:VCALENDAR
PRODID:-//eluceo/ical//2.0/EN
VERSION:2.0
CALSCALE:GREGORIAN
BEGIN:VEVENT
UID:ed4d31e47992f8ae01fc89b6b6c0f944
DTSTAMP:20260424T123815Z
SUMMARY:Let's Get Into The G-DZone! at Temple Beth David
DESCRIPTION:Jewish Federation of the Greater San Gabriel & Pomona Valleys\n
 COMMUNITY CALENDAR\nhttps://jewishsgpv.org/calendar/lets-get-into-the-g-d\
 n\nFriday November 22\, 2024 at 7:30 PM Shabbat with Rabbis Tsvi Bar-David
  & Ira Rosenfeld
DTSTART;TZID=America/Los_Angeles:20241122T193000
DTEND;TZID=America/Los_Angeles:20241122T213000
END:VEVENT
END:VCALENDAR
