BEGIN:VCALENDAR
PRODID:-//eluceo/ical//2.0/EN
VERSION:2.0
CALSCALE:GREGORIAN
BEGIN:VEVENT
UID:e3d9f7341c444555f97d99a2ec3a35a8
DTSTAMP:20260424T092557Z
SUMMARY:Let's Celebrate Tu B'shvat with PJ Library
DESCRIPTION:Jewish Federation of the Greater San Gabriel & Pomona Valleys\n
 COMMUNITY CALENDAR\nhttps://jewishsgpv.org/calendar/lets-celebrate-tbshvat
 -with-pj-library\n\nCelebrate the holiday of Tu B’Shvat (The Birthday of
  the Trees) with this super fun Snack & Seed Kit.\n\nBe one of the first 3
 0 families to RSVP by January 31 to reserve yours!
DTSTART;TZID=America/Los_Angeles:20230131T000000
DTEND;TZID=America/Los_Angeles:20230131T235959
END:VEVENT
END:VCALENDAR
