BEGIN:VCALENDAR
PRODID:-//eluceo/ical//2.0/EN
VERSION:2.0
CALSCALE:GREGORIAN
BEGIN:VEVENT
UID:22ba0e246fc3ed7cc7c55db4c9d4b6f2
DTSTAMP:20260421T081102Z
SUMMARY:Let's Celebrate Freedom!- Second Night Seder
DESCRIPTION:Jewish Federation of the Greater San Gabriel & Pomona Valleys\n
 COMMUNITY CALENDAR\nhttps://jewishsgpv.org/calendar/lets-celebrate-freedom
 -second-night-seder\n\nLet’s Celebrate Freedom! 2nd Night Community Sede
 r\n\nApril 16\, 2022\, 6 p.m.\n\nPresented By temple Beth Israel Pomona\n\
 nRSVP here- tbiseder2022.eventbrite.com
DTSTART;TZID=America/Los_Angeles:20220416T180000
DTEND;TZID=America/Los_Angeles:20220416T200000
END:VEVENT
END:VCALENDAR
