BEGIN:VCALENDAR
PRODID:-//eluceo/ical//2.0/EN
VERSION:2.0
CALSCALE:GREGORIAN
BEGIN:VEVENT
UID:4f18d95ac8a7014c2f01c7d2836cbfff
DTSTAMP:20260425T000712Z
SUMMARY:Let's Celebrate Freedom!- Diversity of Passover Traditions
DESCRIPTION:Jewish Federation of the Greater San Gabriel & Pomona Valleys\n
 COMMUNITY CALENDAR\nhttps://jewishsgpv.org/calendar/lets-celebrate-freedom
 -diversity-of-passover-traditions\n\nLet’s Celebrate Freedom! - Honor
 ing the Wide Diversity of Passover Traditions at Your Seder!\n\nTwo Ses
 sions\, Wednesdays\, April 6 and 13\, 2022\, 7:15 – 8:30 p.m. in th
 e TBI  Social Hall and on Zoom\n\nPresented by Temple Beth Israel Pomon
 a\n\nGo to www.tbipomona.org\, email tbi@tbipomona.org or call 909-626127
 7 for more info
DTSTART;TZID=America/Los_Angeles:20220406T191500
DTEND;TZID=America/Los_Angeles:20220406T203000
END:VEVENT
END:VCALENDAR
