BEGIN:VCALENDAR
PRODID:-//eluceo/ical//2.0/EN
VERSION:2.0
CALSCALE:GREGORIAN
BEGIN:VEVENT
UID:6383f17bc108cc4f3252dcb2f256145a
DTSTAMP:20260425T212651Z
SUMMARY:L'Dor Vador Shabbat Service
DESCRIPTION:Jewish Federation of the Greater San Gabriel & Pomona Valleys\n
 COMMUNITY CALENDAR\nhttps://jewishsgpv.org/calendar/ldor-vador-shabbat-ser
 vice-summer-music\n\n
DTSTART;TZID=America/Los_Angeles:20250621T183000
DTEND;TZID=America/Los_Angeles:20250621T213000
END:VEVENT
END:VCALENDAR
