BEGIN:VCALENDAR
PRODID:-//eluceo/ical//2.0/EN
VERSION:2.0
CALSCALE:GREGORIAN
BEGIN:VEVENT
UID:5e5812f6320838f2dd66065516f1c10c
DTSTAMP:20260422T134915Z
SUMMARY:Lag Baomer Community Picnic
DESCRIPTION:Jewish Federation of the Greater San Gabriel & Pomona Valleys\n
 COMMUNITY CALENDAR\nhttps://jewishsgpv.org/calendar/lag-baomer-picnic\n\n
DTSTART;TZID=America/Los_Angeles:20250515T183000
DTEND;TZID=America/Los_Angeles:20250515T200000
END:VEVENT
END:VCALENDAR
