BEGIN:VCALENDAR
PRODID:-//eluceo/ical//2.0/EN
VERSION:2.0
CALSCALE:GREGORIAN
BEGIN:VEVENT
UID:2d36a35c43c03cd3d15f8d37584c5fdb
DTSTAMP:20260424T205942Z
SUMMARY:Lag Baomer Community Picnic
DESCRIPTION:Jewish Federation of the Greater San Gabriel & Pomona Valleys\n
 COMMUNITY CALENDAR\nhttps://jewishsgpv.org/calendar/lag-baomer-community-p
 icnic\n\n
DTSTART;TZID=America/Los_Angeles:20240526T170000
DTEND;TZID=America/Los_Angeles:20240526T190000
END:VEVENT
END:VCALENDAR
