BEGIN:VCALENDAR
PRODID:-//eluceo/ical//2.0/EN
VERSION:2.0
CALSCALE:GREGORIAN
BEGIN:VEVENT
UID:975bfbbcbbb00b881b9abe58af86fede
DTSTAMP:20260421T034019Z
SUMMARY:Lag Baomer Chabad Inland Empire
DESCRIPTION:Jewish Federation of the Greater San Gabriel & Pomona Valleys\n
 COMMUNITY CALENDAR\nhttps://jewishsgpv.org/calendar/lag-baomer-chabad-inla
 nd-empire\n\n
DTSTART;TZID=America/Los_Angeles:20210429T183000
DTEND;TZID=America/Los_Angeles:20210429T203000
END:VEVENT
END:VCALENDAR
