BEGIN:VCALENDAR
PRODID:-//eluceo/ical//2.0/EN
VERSION:2.0
CALSCALE:GREGORIAN
BEGIN:VEVENT
UID:f644b1a8c8c733303dca9af62969d39c
DTSTAMP:20260420T063030Z
SUMMARY:Lag Baomer
DESCRIPTION:Jewish Federation of the Greater San Gabriel & Pomona Valleys\n
 COMMUNITY CALENDAR\nhttps://jewishsgpv.org/calendar/lag-baomer\n\n
DTSTART;TZID=America/Los_Angeles:20220519T183000
DTEND;TZID=America/Los_Angeles:20220519T203000
END:VEVENT
END:VCALENDAR
