BEGIN:VCALENDAR
PRODID:-//eluceo/ical//2.0/EN
VERSION:2.0
CALSCALE:GREGORIAN
BEGIN:VEVENT
UID:a6761e005e61ad0df872ea397d5e16f6
DTSTAMP:20260422T073818Z
SUMMARY:Ladies Of Laughter Festival - Fundraiser
DESCRIPTION:Jewish Federation of the Greater San Gabriel & Pomona Valleys\n
 COMMUNITY CALENDAR\nhttps://jewishsgpv.org/calendar/ladies-of-laughter-fes
 tival-fundraiser\n\n
DTSTART;TZID=America/Los_Angeles:20230301T183000
DTEND;TZID=America/Los_Angeles:20230301T193000
END:VEVENT
END:VCALENDAR
