BEGIN:VCALENDAR
PRODID:-//eluceo/ical//2.0/EN
VERSION:2.0
CALSCALE:GREGORIAN
BEGIN:VEVENT
UID:e438aba804f56427b354803645d7b0df
DTSTAMP:20260424T092929Z
SUMMARY:Ladies of Laughter Comedy Fest: Dinner at TBoyle's
DESCRIPTION:Jewish Federation of the Greater San Gabriel & Pomona Valleys\n
 COMMUNITY CALENDAR\nhttps://jewishsgpv.org/calendar/ladies-of-laughter-com
 edy-fest-dinner-at-tboyles\n\n
DTSTART;TZID=America/Los_Angeles:20240308T180000
DTEND;TZID=America/Los_Angeles:20240308T210000
END:VEVENT
END:VCALENDAR
