BEGIN:VCALENDAR
PRODID:-//eluceo/ical//2.0/EN
VERSION:2.0
CALSCALE:GREGORIAN
BEGIN:VEVENT
UID:76242d8ca2902911a0bb5002ada9cf2e
DTSTAMP:20260424T024636Z
SUMMARY:Ladies of Laughter Comedy Fest: Amusing Jews Live Podcast
DESCRIPTION:Jewish Federation of the Greater San Gabriel & Pomona Valleys\n
 COMMUNITY CALENDAR\nhttps://jewishsgpv.org/calendar/ladies-of-laughter-com
 edy-fest-amusing-jews-live-podcast\n\n
DTSTART;TZID=America/Los_Angeles:20240308T130000
DTEND;TZID=America/Los_Angeles:20240308T140000
END:VEVENT
END:VCALENDAR
