BEGIN:VCALENDAR
PRODID:-//eluceo/ical//2.0/EN
VERSION:2.0
CALSCALE:GREGORIAN
BEGIN:VEVENT
UID:98b87f4a187c9b15db875637140992b1
DTSTAMP:20260424T090757Z
SUMMARY:Kol HaEmek - Panda Express Fundraiser
DESCRIPTION:Jewish Federation of the Greater San Gabriel & Pomona Valleys\n
 COMMUNITY CALENDAR\nhttps://jewishsgpv.org/calendar/kol-haemek-panda-expre
 ss-fundraiser\n\nEnjoy Panda Express on Thursday\, December 3rd and supp
 ort Kol HaEmek Community Chorale (KHE) at the same time!\n\n \n\nKHE is h
 aving a fundraiser with Panda Express on December 3. Click on the link b
 elow to access the fundraiser page.  Any Panda Express purchases online\,
  from any location in the nation\, using the code specified on the fundrai
 ser page\, will benefit KHE. \n\n \n\nJust open the link to access the f
 undraiser page which details the specifics\, including a “Share” butto
 n...
DTSTART;TZID=America/Los_Angeles:20201203T000000
DTEND;TZID=America/Los_Angeles:20201203T235959
END:VEVENT
END:VCALENDAR
