BEGIN:VCALENDAR
PRODID:-//eluceo/ical//2.0/EN
VERSION:2.0
CALSCALE:GREGORIAN
BEGIN:VEVENT
UID:ce3c9baa8ba893b2d1edbfd7375b3f92
DTSTAMP:20260424T223039Z
SUMMARY:Kinder Shabbat with Gitai and Main Service
DESCRIPTION:Jewish Federation of the Greater San Gabriel & Pomona Valleys\n
 COMMUNITY CALENDAR\nhttps://jewishsgpv.org/calendar/kinder-shabbat-with-gi
 tai-and-main-service\n\n
DTSTART;TZID=America/Los_Angeles:20260501T183000
DTEND;TZID=America/Los_Angeles:20260501T213000
END:VEVENT
END:VCALENDAR
