BEGIN:VCALENDAR
PRODID:-//eluceo/ical//2.0/EN
VERSION:2.0
CALSCALE:GREGORIAN
BEGIN:VEVENT
UID:4d89ff5c2e4404da94f0f7b5e54751b6
DTSTAMP:20260420T141124Z
SUMMARY:Kinder Shabbat & Main Service
DESCRIPTION:Jewish Federation of the Greater San Gabriel & Pomona Valleys\n
 COMMUNITY CALENDAR\nhttps://jewishsgpv.org/calendar/kinder-shabbat-service
 -main-service\n\nKinder Shabbat at 6:30PM and Main service at 7:30PM
DTSTART;TZID=America/Los_Angeles:20250207T183000
DTEND;TZID=America/Los_Angeles:20250207T213000
END:VEVENT
END:VCALENDAR
