BEGIN:VCALENDAR
PRODID:-//eluceo/ical//2.0/EN
VERSION:2.0
CALSCALE:GREGORIAN
BEGIN:VEVENT
UID:968ad7ed7a731799e2d631dc5701a5a9
DTSTAMP:20260419T172706Z
SUMMARY:Kinder Percussion Shabbat
DESCRIPTION:Jewish Federation of the Greater San Gabriel & Pomona Valleys\n
 COMMUNITY CALENDAR\nhttps://jewishsgpv.org/calendar/kinder-percussion-shab
 bat\n\n
DTSTART;TZID=America/Los_Angeles:20250404T183000
DTEND;TZID=America/Los_Angeles:20250404T210000
END:VEVENT
END:VCALENDAR
