BEGIN:VCALENDAR
PRODID:-//eluceo/ical//2.0/EN
VERSION:2.0
CALSCALE:GREGORIAN
BEGIN:VEVENT
UID:fa14832cc0c0096e448758cabb1fed0d
DTSTAMP:20260422T112747Z
SUMMARY:Kiddush Lunch in the Sukkah
DESCRIPTION:Jewish Federation of the Greater San Gabriel & Pomona Valleys\n
 COMMUNITY CALENDAR\nhttps://jewishsgpv.org/calendar/kiddush-lunch-inside-t
 he-sukkah\n\nJoin us for a\nKiddush Lunch in the Sukkah\nShabbat\, Saturd
 ay\, September 25\n\nOutdoor Shabbat Services at 10:00am\nFollowed by a ki
 ddush of hot cholent\, deli\, challah\, kugel and salads.\n\nTo RSVP\nemai
 l info@ChabadInlandEmpire.com or call 909-949-4553\n\n 
DTSTART;TZID=America/Los_Angeles:20210925T100000
DTEND;TZID=America/Los_Angeles:20210925T120000
END:VEVENT
END:VCALENDAR
