BEGIN:VCALENDAR
PRODID:-//eluceo/ical//2.0/EN
VERSION:2.0
CALSCALE:GREGORIAN
BEGIN:VEVENT
UID:c17acfe380d106fc434f7dd3621986c2
DTSTAMP:20260423T115444Z
SUMMARY:Kibbutz Connection Weekend Program with Camp Bob Waldorf
DESCRIPTION:Jewish Federation of the Greater San Gabriel & Pomona Valleys\n
 COMMUNITY CALENDAR\nhttps://jewishsgpv.org/calendar/kibbutz-connection-wee
 kend-program-with-camp-bob-waldorf-1601506166\n\nJoin the Kibbutz Connecti
 on! \n\nGrade: 3rd-12th\n\nDecember 5th-6th\n\nDeadline to apply for the 
 KBW weekend program is Thursday November 12th.\n\nThe Kibbutz Connection i
 s an online weekend to celebrate Hanukkah together!\n\nDuring this weekend
 \, each age group will participate and create various projects focused on 
 Jewish fall holidays for a few hours with us. From Menorah making\, to dre
 idel mobiles\, and yoga sessions this weekend is sure to be a great time. 
 We may also sneak in some Israe...
DTSTART;TZID=America/Los_Angeles:20201205T130000
DTEND;TZID=America/Los_Angeles:20201205T170000
END:VEVENT
END:VCALENDAR
