BEGIN:VCALENDAR
PRODID:-//eluceo/ical//2.0/EN
VERSION:2.0
CALSCALE:GREGORIAN
BEGIN:VEVENT
UID:7d8f070bc2e6368f1f9129a3450315cd
DTSTAMP:20260422T093446Z
SUMMARY:Judaic Studies | Temple Sholom of Ontario
DESCRIPTION:Jewish Federation of the Greater San Gabriel & Pomona Valleys\n
 COMMUNITY CALENDAR\nhttps://jewishsgpv.org/calendar/judaic-studies-temple-
 sholom-of-ontario\n\nJudaic Studies every Thursday at 7:30 PM - except the
  2nd Thursday of each month. Topics vary. On Zoom. To register send an em
 ail to secretary@templesholomofontario.org
DTSTART;TZID=America/Los_Angeles:20210429T193000
DTEND;TZID=America/Los_Angeles:20210429T210000
END:VEVENT
END:VCALENDAR
