BEGIN:VCALENDAR
PRODID:-//eluceo/ical//2.0/EN
VERSION:2.0
CALSCALE:GREGORIAN
BEGIN:VEVENT
UID:366ed3e2021a0164aff828757f9378c8
DTSTAMP:20260423T062153Z
SUMMARY:Journey through the Bible
DESCRIPTION:Jewish Federation of the Greater San Gabriel & Pomona Valleys\n
 COMMUNITY CALENDAR\nhttps://jewishsgpv.org/calendar/journey-through-the-bi
 ble\n\nJourney Through the Bible\n\nSundays at 10 a.m. VIA ZOOM\n\nPresen
 ted by Temple Sinai of Glendale\n\nTo RSVP/For More Information- visit te
 mple-sinai.net\n\nJoin Rabbi Rick Schechter for the next session of TSG's 
 fascinating monthly biblical discussion group. Open to everyone\, (no prio
 r biblical knowledge required)!
DTSTART;TZID=America/Los_Angeles:20220313T100000
DTEND;TZID=America/Los_Angeles:20220313T113000
END:VEVENT
END:VCALENDAR
