BEGIN:VCALENDAR
PRODID:-//eluceo/ical//2.0/EN
VERSION:2.0
CALSCALE:GREGORIAN
BEGIN:VEVENT
UID:f481cfcda738218ccbf888da147c1f6b
DTSTAMP:20260424T204521Z
SUMMARY:Joseph And the Amazing Technicolor Dreamcoat Auditions
DESCRIPTION:Jewish Federation of the Greater San Gabriel & Pomona Valleys\n
 COMMUNITY CALENDAR\nhttps://jewishsgpv.org/calendar/joseph-auditions\n\nCl
 ick here to sign up
DTSTART;TZID=America/Los_Angeles:20200615T000000
DTEND;TZID=America/Los_Angeles:20200617T235959
END:VEVENT
END:VCALENDAR
