BEGIN:VCALENDAR
PRODID:-//eluceo/ical//2.0/EN
VERSION:2.0
CALSCALE:GREGORIAN
BEGIN:VEVENT
UID:dc3400c372989a0c51fd35a850b75b00
DTSTAMP:20260421T032446Z
SUMMARY:Joseph and the Amazing Technicolor Dreamcoat
DESCRIPTION:Jewish Federation of the Greater San Gabriel & Pomona Valleys\n
 COMMUNITY CALENDAR\nhttps://jewishsgpv.org/calendar/joseph-and-the-amazing
 -technicolor-dreamcoat\n\nThe Jewish Federation and PJTC USY are proud to 
 present:\n\nJoseph and the Amazing Technicolor Dreamcoat\n\nOver 40 commun
 ity members have been working for months to bring this 100% virtual produc
 tion to the comfort of your home. Don’t miss out. Everyone must register
  to receive their unique link. Click here to register.\n\nClick here to re
 gister
DTSTART;TZID=America/Los_Angeles:20210117T000000
DTEND;TZID=America/Los_Angeles:20210117T235959
END:VEVENT
END:VCALENDAR
