BEGIN:VCALENDAR
PRODID:-//eluceo/ical//2.0/EN
VERSION:2.0
CALSCALE:GREGORIAN
BEGIN:VEVENT
UID:80b5101b7e55254b4ded68c2652358d7
DTSTAMP:20260421T045255Z
SUMMARY:JFed Players presents: A Participatory Play Reading
DESCRIPTION:Jewish Federation of the Greater San Gabriel & Pomona Valleys\n
 COMMUNITY CALENDAR\nhttps://jewishsgpv.org/calendar/jfed-players-presents-
 a-participatory-play-reading\n\nIt’s a Monday night . . . what are you g
 oing to do? On Monday\, November 16th\, 7:30 pm\, try something different!
  Participate in an on-line play reading hosted by the JFed Players.\n\nReg
 istrations for this event are now closed\, please stay tuned for our next 
 event. \n\n 
DTSTART;TZID=America/Los_Angeles:20201116T193000
DTEND;TZID=America/Los_Angeles:20201116T210000
END:VEVENT
END:VCALENDAR
