BEGIN:VCALENDAR
PRODID:-//eluceo/ical//2.0/EN
VERSION:2.0
CALSCALE:GREGORIAN
BEGIN:VEVENT
UID:4ea5fb51bf2eea9e588d5c8b89e26206
DTSTAMP:20260424T111131Z
SUMMARY:JFed Players present: The Drowsy Chaperone
DESCRIPTION:Jewish Federation of the Greater San Gabriel & Pomona Valleys\n
 COMMUNITY CALENDAR\nhttps://jewishsgpv.org/calendar/jfed-players-present-t
 he-drowsy-chaperone-thursdays\n\n
DTSTART;TZID=America/Los_Angeles:20230420T193000
DTEND;TZID=America/Los_Angeles:20230420T213000
END:VEVENT
END:VCALENDAR
