BEGIN:VCALENDAR
PRODID:-//eluceo/ical//2.0/EN
VERSION:2.0
CALSCALE:GREGORIAN
BEGIN:VEVENT
UID:4a7ac6f33e1c00a73f94340f76512d80
DTSTAMP:20260419T170946Z
SUMMARY:JFed Players present: Southern Fried Funeral
DESCRIPTION:Jewish Federation of the Greater San Gabriel & Pomona Valleys\n
 COMMUNITY CALENDAR\nhttps://jewishsgpv.org/calendar/jfed-players-present-s
 outhern-fried-funeral\n\nJoin us for an evening of laughter\, family\, and
  Southern charm!\n\n \n\nJFed Players Present:\n\nSouthern Fried Funeral\
 n\n \n\nA heartfelt and hilarious comedy filled with family secrets\, big
  personalities\, and plenty of Southern spirit.\n\n \n\nPerformances\n\nS
 aturday\, May 2\, 8 p.m. | Sunday\, May 3\, 3:30 p.m.\n\nThursday\, May 7\
 , 7:30 p.m.\n\nSaturday\, May 9\, 8 p.m. | Sunday\, May 10\, 3:30 p.m. and
  6:30 p.m.\n\n \n\nLocation: 150 N. El Molino Ave.\, Pasadena\, CA 91101\
 n\nTickets: $40 Prio...
DTSTART;TZID=America/Los_Angeles:20260502T000000
DTEND;TZID=America/Los_Angeles:20260502T235959
END:VEVENT
END:VCALENDAR
