BEGIN:VCALENDAR
PRODID:-//eluceo/ical//2.0/EN
VERSION:2.0
CALSCALE:GREGORIAN
BEGIN:VEVENT
UID:38fb84245babefca945fc39362c4f014
DTSTAMP:20260423T135147Z
SUMMARY:JFed Players present: Scapino!
DESCRIPTION:Jewish Federation of the Greater San Gabriel & Pomona Valleys\n
 COMMUNITY CALENDAR\nhttps://jewishsgpv.org/calendar/jfed-players-present-s
 capino\n\nThe JFed Players Community Theatre Ensemble is pleased to announ
 ce its Fall production: \n\nSCAPINO!\n\nScapino! is a classic comedy of y
 oung lovers in conflict with their disapproving\, grumpy fathers. Based on
  Moliere’s Les Fourberies de Scapin\, this delightfully updated version 
 by Frank Dunlop and Jim Dale retains the fairy tale feeling of the origina
 l while incorporating current language and some present-day references. It
  has everything: music\, physical comedy\, satire\, romance\, and...
DTSTART;TZID=America/Los_Angeles:20211002T200000
DTEND;TZID=America/Los_Angeles:20211002T213000
END:VEVENT
END:VCALENDAR
