BEGIN:VCALENDAR
PRODID:-//eluceo/ical//2.0/EN
VERSION:2.0
CALSCALE:GREGORIAN
BEGIN:VEVENT
UID:a106b760163c69932d66ebcc618c849d
DTSTAMP:20260421T133005Z
SUMMARY:JFed Players present: Leading Ladies
DESCRIPTION:Jewish Federation of the Greater San Gabriel & Pomona Valleys\n
 COMMUNITY CALENDAR\nhttps://jewishsgpv.org/calendar/jfed-players-present-l
 eading-ladies\n\nLeading Ladies is a hilarious play by Ken Ludwig (Lend M
 e a Tenor) about two down-on-their-luck English Shakespearean actors who h
 ear of an ailing old lady planning to leave her fortune to her two long-lo
 st English nephews. They decide to masquerade as the nephews\, only to fin
 d out the nephews are actually nieces. Undaunted\, they move forward with 
 their plan – in drag! Romantic entanglements abound in this screwball co
 medy filled with bad behavior\, high heels\, and a world of comedy.\n\n .
 ..
DTSTART;TZID=America/Los_Angeles:20231021T200000
DTEND;TZID=America/Los_Angeles:20231021T220000
END:VEVENT
END:VCALENDAR
