BEGIN:VCALENDAR
PRODID:-//eluceo/ical//2.0/EN
VERSION:2.0
CALSCALE:GREGORIAN
BEGIN:VEVENT
UID:3a49952d9b52b29759acd8c4a026a6e1
DTSTAMP:20260424T134943Z
SUMMARY:JFed Players present: Grumpy Old Men
DESCRIPTION:Jewish Federation of the Greater San Gabriel & Pomona Valleys\n
 COMMUNITY CALENDAR\nhttps://jewishsgpv.org/calendar/jfed-players-present-g
 rumpy-old-men-730pm\n\nGRUMPY OLD MEN\, the Musical\, is the story of two
  aging men\, Max and John\, neighbors who have been feuding for most of th
 eir lives. Invigorated by their shared attraction to their new neighbor ac
 ross the street\, the beautiful\, eccentric\, and charming Ariel\, they fa
 ce-off as romantic rivals until their hilarious shenanigans finally bring 
 about a resolution to their long-standing differences. Based on the 1993 f
 ilm written by Mark Steve Johnson\, this stage adaptation captures the lov
 ably crotch...
DTSTART;TZID=America/Los_Angeles:20220330T193000
DTEND;TZID=America/Los_Angeles:20220330T213000
END:VEVENT
END:VCALENDAR
