BEGIN:VCALENDAR
PRODID:-//eluceo/ical//2.0/EN
VERSION:2.0
CALSCALE:GREGORIAN
BEGIN:VEVENT
UID:54927bea40b5cf8848eeaadca8ad1ac7
DTSTAMP:20260422T092224Z
SUMMARY:JFed Players present: Company
DESCRIPTION:Jewish Federation of the Greater San Gabriel & Pomona Valleys\n
 COMMUNITY CALENDAR\nhttps://jewishsgpv.org/calendar/jfed-players-present-c
 ompany-sunday\n\nJoin us for an unforgettable night of music\, laughter\, 
 and love!\n\nThe JFed Players proudly present Stephen Sondheim’s Company
  – a witty and heartwarming musical comedy about relationships\, friends
 hip\, and being alive.\n\n \n\nPerformances:\n\nSaturdays\, October 4\, 1
 1\, 18 – 8 p.m.\n\nSundays\, October 5\, 12\, 19 – 3 p.m.\n\n \n\nLoc
 ation: \n\nAhaiah Center\n\n150 N. El Molino Ave.\, Pasadena\, CA 91101\n\
 n \n\nTickets:\n\n$40 Priority | $30 General | $20 Students/Groups 10+\n\
 n 
DTSTART;TZID=America/Los_Angeles:20251019T150000
DTEND;TZID=America/Los_Angeles:20251019T170000
END:VEVENT
END:VCALENDAR
