BEGIN:VCALENDAR
PRODID:-//eluceo/ical//2.0/EN
VERSION:2.0
CALSCALE:GREGORIAN
BEGIN:VEVENT
UID:469cc245940abaa268335fb7748463d4
DTSTAMP:20260419T213821Z
SUMMARY:JFed Players' Auditions: The Drowsy Chaperone
DESCRIPTION:Jewish Federation of the Greater San Gabriel & Pomona Valleys\n
 COMMUNITY CALENDAR\nhttps://jewishsgpv.org/calendar/jfed-players-auditions
 -the-drowsy-chaperone2\n\nSides will be available on the JFedPlayers webpa
 ge in advance of auditions. 
DTSTART;TZID=America/Los_Angeles:20230109T190000
DTEND;TZID=America/Los_Angeles:20230109T210000
END:VEVENT
END:VCALENDAR
