BEGIN:VCALENDAR
PRODID:-//eluceo/ical//2.0/EN
VERSION:2.0
CALSCALE:GREGORIAN
BEGIN:VEVENT
UID:2984532d62479da1c6c6aef23895d34d
DTSTAMP:20260420T084230Z
SUMMARY:JFed Players Auditions: Leading Ladies
DESCRIPTION:Jewish Federation of the Greater San Gabriel & Pomona Valleys\n
 COMMUNITY CALENDAR\nhttps://jewishsgpv.org/calendar/jfed-players-auditions
 -leading-ladies\n\n
DTSTART;TZID=America/Los_Angeles:20230709T140000
DTEND;TZID=America/Los_Angeles:20230709T160000
END:VEVENT
END:VCALENDAR
