BEGIN:VCALENDAR
PRODID:-//eluceo/ical//2.0/EN
VERSION:2.0
CALSCALE:GREGORIAN
BEGIN:VEVENT
UID:37e2a18e4feebd680483d30c9c8b2ebd
DTSTAMP:20260422T151754Z
SUMMARY:JFed Players: Auditions for Company
DESCRIPTION:Jewish Federation of the Greater San Gabriel & Pomona Valleys\n
 COMMUNITY CALENDAR\nhttps://jewishsgpv.org/calendar/jfed-players-auditions
 -for-company-evening\n\nJFed Players proudly announces auditions for our u
 pcoming Fall Musical Production of Company. Music and Lyrics by Stephen So
 ndheim. Directed by Cantor Judy Sofer\n\n \n\nAuditions will be held at:\
 n\nJewish Federation SGPV Office\n\n114A W. Lime Ave.\, Monrovia\, CA 9101
 6\n\n \n\nAudition Dates & Times:\n\nSunday\, July 27 | 2:00–4:00 PM\n\
 nMonday\, July 28 | 7:00–9:00 PM\n\nTuesday\, July 29 | 7:00–9:00 PM\n
 \n \n\nWhat to Prepare:\n\n16 bars of a song\n\nSides will be provided at
  the aud...
DTSTART;TZID=America/Los_Angeles:20250728T190000
DTEND;TZID=America/Los_Angeles:20250728T210000
END:VEVENT
END:VCALENDAR
