BEGIN:VCALENDAR
PRODID:-//eluceo/ical//2.0/EN
VERSION:2.0
CALSCALE:GREGORIAN
BEGIN:VEVENT
UID:3b6ab0d98ef7a78e1387072eec45d3ff
DTSTAMP:20260422T153053Z
SUMMARY:JFed Participatory Reading
DESCRIPTION:Jewish Federation of the Greater San Gabriel & Pomona Valleys\n
 COMMUNITY CALENDAR\nhttps://jewishsgpv.org/calendar/jfed-participatory-rea
 ding\n\nJFed Players is happy to announce its second on-line participatory
  play reading on Monday\, January 11\, 2021\, at 7:30 PM. We hope you will
  join us!\n\n \n\nA digital copy of the script and a Zoom link will be se
 nt to those who register.  No need to read the script ahead – parts wil
 l be assigned once we start.  You are welcome to read or just listen\, wh
 atever you prefer.  The play will take about 45 minutes to read\, after w
 hich we will have a brief discussion.  The meeting will end at ap...
DTSTART;TZID=America/Los_Angeles:20210111T193000
DTEND;TZID=America/Los_Angeles:20210111T210000
END:VEVENT
END:VCALENDAR
