BEGIN:VCALENDAR
PRODID:-//eluceo/ical//2.0/EN
VERSION:2.0
CALSCALE:GREGORIAN
BEGIN:VEVENT
UID:bfd712f11f65ff9db870e36bddfd7720
DTSTAMP:20260425T224922Z
SUMMARY:Jewish Parenting Ethics-Bagel Breakfast and Guest Speaker
DESCRIPTION:Jewish Federation of the Greater San Gabriel & Pomona Valleys\n
 COMMUNITY CALENDAR\nhttps://jewishsgpv.org/calendar/jewish-parenting-ethic
 s-bagel-breakfast-and-guest-speaker\n\nJanuary 22nd at 9:30 for breakfast\
 ; 10:00 Presentation and Discussion. Rabbi Neal Scheindlin. Jewish Parenti
 ng Ethics.\n\nLocation: Temple Beth David in Temple City 9677 Longden Aven
 ue TC.\n\n \n\nCost: $10. Please contact the office for details on how to
  RSVP.\n\nEmail Address: tbd.justine@gmail.com\n\nPhone number: (626)287-9
 994\n\n 
DTSTART;TZID=America/Los_Angeles:20230122T093000
DTEND;TZID=America/Los_Angeles:20230122T120000
END:VEVENT
END:VCALENDAR
