BEGIN:VCALENDAR
PRODID:-//eluceo/ical//2.0/EN
VERSION:2.0
CALSCALE:GREGORIAN
BEGIN:VEVENT
UID:165b938a80889d41c2193dcd39ea2a32
DTSTAMP:20260421T090522Z
SUMMARY:Jewish Meditation
DESCRIPTION:Jewish Federation of the Greater San Gabriel & Pomona Valleys\n
 COMMUNITY CALENDAR\nhttps://jewishsgpv.org/calendar/jewish-meditation\n\nJ
 ewish Meditation\n\nFriday\, 3/25 at 6:55pm VIA ZOOM\n\nPresented by Tem
 ple Sinai of Glendale\n\nTo RSVP/For More Information- visit temple-sinai
 .net\n\nUse the half-hour before our Friday evening service to breathe\, c
 enter yourself\, and get in a Shabbat mindset. This monthly program is led
  by long-time meditator and teacher Jan Freed.
DTSTART;TZID=America/Los_Angeles:20220325T185500
DTEND;TZID=America/Los_Angeles:20220325T192500
END:VEVENT
END:VCALENDAR
