BEGIN:VCALENDAR
PRODID:-//eluceo/ical//2.0/EN
VERSION:2.0
CALSCALE:GREGORIAN
BEGIN:VEVENT
UID:bba1bb55660c3c011601ae72772b992f
DTSTAMP:20260421T125148Z
SUMMARY:Jewish Federation's 30th Annual Meeting
DESCRIPTION:Jewish Federation of the Greater San Gabriel & Pomona Valleys\n
 COMMUNITY CALENDAR\nhttps://jewishsgpv.org/calendar/jewish-federations-ann
 ual-meeting-2025\n\nUPDATE: \n\nOUR 30TH ANNUAL MEETING HAS BEEN RESCHEDU
 LED FOR MARCH 2\, 2025.\n\nIf you had made a reservation for our Annual Me
 eting originally scheduled for January 12\, your reservation remains valid
  for the new date.\n\n \n\n\n \n\n \n\nOur Jewish Federation will be ho
 lding its 30th Annual Meeting on Sunday\, March 2\, 2025\, at 10:00 a.m. a
 t Temple Beth Israel of Pomona (3033 N. Towne Avenue\, Pomona). The Jewish
  Federation will be honoring long-time community member Robin Evans as its
  2024...
DTSTART;TZID=America/Los_Angeles:20250302T100000
DTEND;TZID=America/Los_Angeles:20250302T120000
END:VEVENT
END:VCALENDAR
