BEGIN:VCALENDAR
PRODID:-//eluceo/ical//2.0/EN
VERSION:2.0
CALSCALE:GREGORIAN
BEGIN:VEVENT
UID:6e865ecc364a8be505f91a0901e6a333
DTSTAMP:20260421T210416Z
SUMMARY:Jewish Federation's 26th Annual Meeting
DESCRIPTION:Jewish Federation of the Greater San Gabriel & Pomona Valleys\n
 COMMUNITY CALENDAR\nhttps://jewishsgpv.org/calendar/jewish-federations-26t
 h-annual-meeting\n\n
DTSTART;TZID=America/Los_Angeles:20210110T100000
DTEND;TZID=America/Los_Angeles:20210110T113000
END:VEVENT
END:VCALENDAR
