BEGIN:VCALENDAR
PRODID:-//eluceo/ical//2.0/EN
VERSION:2.0
CALSCALE:GREGORIAN
BEGIN:VEVENT
UID:e7f59b9ee5a9dfbbb64002f31eedba38
DTSTAMP:20260422T110649Z
SUMMARY:Jewish Book Festival | Steven Wasserman: Grasping at Straws
DESCRIPTION:Jewish Federation of the Greater San Gabriel & Pomona Valleys\n
 COMMUNITY CALENDAR\nhttps://jewishsgpv.org/calendar/jewish-book-festival-s
 teven-wasserman-grasping-at-straws\n\n
DTSTART;TZID=America/Los_Angeles:20221113T160000
DTEND;TZID=America/Los_Angeles:20221113T180000
END:VEVENT
END:VCALENDAR
