BEGIN:VCALENDAR
PRODID:-//eluceo/ical//2.0/EN
VERSION:2.0
CALSCALE:GREGORIAN
BEGIN:VEVENT
UID:b1a4879a00b179df39515dab76b205d9
DTSTAMP:20260422T102543Z
SUMMARY:Jewish Book Festival | Sarah Sassoon: Shoham’s Bangle
DESCRIPTION:Jewish Federation of the Greater San Gabriel & Pomona Valleys\n
 COMMUNITY CALENDAR\nhttps://jewishsgpv.org/calendar/jewish-book-festival-s
 arah-sassoon-shohams-bangle\n\n
DTSTART;TZID=America/Los_Angeles:20221113T100000
DTEND;TZID=America/Los_Angeles:20221113T120000
END:VEVENT
END:VCALENDAR
