BEGIN:VCALENDAR
PRODID:-//eluceo/ical//2.0/EN
VERSION:2.0
CALSCALE:GREGORIAN
BEGIN:VEVENT
UID:067a91eed2641f733909d7cdb70f041b
DTSTAMP:20260424T033635Z
SUMMARY:Jewish Book Festival | Richard Hurowitz | In the Garden of Righteou
 s
DESCRIPTION:Jewish Federation of the Greater San Gabriel & Pomona Valleys\n
 COMMUNITY CALENDAR\nhttps://jewishsgpv.org/calendar/jewish-book-festival-r
 ichard-hurowitz--in-the-garden-of-righteous\n\nIn The Garden of the Righte
 ous provides us with a view of courage and humanity through the stories of
  non-Jews whose heroism saved lives during the Holocaust. In ten extraordi
 nary profiles\, we meet a circus family\, a cycling champion\, a social wo
 rker\, diplomats\, a spy and others who provided hiding places\, worked wi
 th the Resistance\, and violated orders throughout Europe to liberate thos
 e at risk. \n \nRichard Hurowitz is the founder and publisher of Octavia
 n Report. His writing has appeare...
DTSTART;TZID=America/Los_Angeles:20231112T160000
DTEND;TZID=America/Los_Angeles:20231112T180000
END:VEVENT
END:VCALENDAR
