BEGIN:VCALENDAR
PRODID:-//eluceo/ical//2.0/EN
VERSION:2.0
CALSCALE:GREGORIAN
BEGIN:VEVENT
UID:afeee6c0a0f0b93fb051684b06db9d1c
DTSTAMP:20260422T095854Z
SUMMARY:Jewish Book Festival presents: Mitchell J. Kaplan
DESCRIPTION:Jewish Federation of the Greater San Gabriel & Pomona Valleys\n
 COMMUNITY CALENDAR\nhttps://jewishsgpv.org/calendar/jewish-book-festival-p
 resents-mitchel-j-kaplan\n\nOne evening in 1924\, Kay Swift\, a concert pi
 anist and society wife of banker James Warburg\, hears George Gershwin’s
  “Rhapsody in Blue” and they begin a lasting affair\, complicated by h
 er loyalty to her husband and her own musical career. Together until his e
 arly death at age 38\, George and Kay bring people and culture together to
  give the world Gershwin classics unmatched in popular music history. Base
 d on true events\, Kaplan’s atmospheric retelling evokes the music\, art
 \, politics\, ba...
DTSTART;TZID=America/Los_Angeles:20211102T190000
DTEND;TZID=America/Los_Angeles:20211102T210000
END:VEVENT
END:VCALENDAR
